BEGIN:VCALENDAR
VERSION:2.0
PRODID:-//AB Audit - ECPv6.15.20//NONSGML v1.0//EN
CALSCALE:GREGORIAN
METHOD:PUBLISH
X-WR-CALNAME:AB Audit
X-ORIGINAL-URL:https://ab-audit.com
X-WR-CALDESC:Évènements pour AB Audit
REFRESH-INTERVAL;VALUE=DURATION:PT1H
X-Robots-Tag:noindex
X-PUBLISHED-TTL:PT1H
BEGIN:VTIMEZONE
TZID:Europe/Paris
BEGIN:DAYLIGHT
TZOFFSETFROM:+0100
TZOFFSETTO:+0200
TZNAME:CEST
DTSTART:20250330T010000
END:DAYLIGHT
BEGIN:STANDARD
TZOFFSETFROM:+0200
TZOFFSETTO:+0100
TZNAME:CET
DTSTART:20251026T010000
END:STANDARD
BEGIN:DAYLIGHT
TZOFFSETFROM:+0100
TZOFFSETTO:+0200
TZNAME:CEST
DTSTART:20260329T010000
END:DAYLIGHT
BEGIN:STANDARD
TZOFFSETFROM:+0200
TZOFFSETTO:+0100
TZNAME:CET
DTSTART:20261025T010000
END:STANDARD
BEGIN:DAYLIGHT
TZOFFSETFROM:+0100
TZOFFSETTO:+0200
TZNAME:CEST
DTSTART:20270328T010000
END:DAYLIGHT
BEGIN:STANDARD
TZOFFSETFROM:+0200
TZOFFSETTO:+0100
TZNAME:CET
DTSTART:20271031T010000
END:STANDARD
END:VTIMEZONE
BEGIN:VEVENT
DTSTART;VALUE=DATE:20260511
DTEND;VALUE=DATE:20260514
DTSTAMP:20260421T144223
CREATED:20260306T085657Z
LAST-MODIFIED:20260306T085657Z
UID:2618-1778457600-1778716799@ab-audit.com
SUMMARY:Formation ITIL Foundation (Version 5) Mai 2026
DESCRIPTION:Assistez à notre Formation ITIL  Foundation (Version 5) Mai 2026 et devenez certifié ITIL® \n\nThème : ITIL Foundation (Version 5)\nNombre de Jours : 3\nVoucher d’examen inclus dans le prix de la formation\n\nLe Nouveau ITIL est la référence internationale en matière de gestion des systèmes d’information. Sa méthodologie permet une meilleure gestion des données et une plus grande efficacité dans les départements informatiques. ITIL ® conduit donc à une meilleure qualité globale des services informatiques. \nAcquérir de solides bases en gestion de produits et services numériques. Maîtriser les concepts et pratiques essentiels pour créer de la valeur tout au long du cycle de vie\, dans les environnements complexes et axés sur l’IA d’aujourd’hui. \nQue vous soyez certifié COBIT® ou non vous découvrirez comment COBIT® et ITIL® se complètent \n  \nInscription ici :
URL:https://ab-audit.com/events/formation-itil-foundation-version-5-mai-2026/
LOCATION:AB AUDIT\, rue du Lac Victoria Immeuble Lac 2001\, AB AUDIT Rue du Lac Victoria Immeuble Lac 2001\, Les Berges du lac\, TUNIS\, Tunis\, 1053\, Tunisia
ATTACH;FMTTYPE=image/png:https://ab-audit.com/wp-content/uploads/2018/04/ITIL.png
ORGANIZER;CN="AB AUDIT":MAILTO:info@ab-audit.com
END:VEVENT
END:VCALENDAR