BEGIN:VCALENDAR
VERSION:2.0
PRODID:-//AB Audit - ECPv6.15.20//NONSGML v1.0//EN
CALSCALE:GREGORIAN
METHOD:PUBLISH
X-WR-CALNAME:AB Audit
X-ORIGINAL-URL:https://ab-audit.com
X-WR-CALDESC:Évènements pour AB Audit
REFRESH-INTERVAL;VALUE=DURATION:PT1H
X-Robots-Tag:noindex
X-PUBLISHED-TTL:PT1H
BEGIN:VTIMEZONE
TZID:Europe/Paris
BEGIN:DAYLIGHT
TZOFFSETFROM:+0100
TZOFFSETTO:+0200
TZNAME:CEST
DTSTART:20250330T010000
END:DAYLIGHT
BEGIN:STANDARD
TZOFFSETFROM:+0200
TZOFFSETTO:+0100
TZNAME:CET
DTSTART:20251026T010000
END:STANDARD
BEGIN:DAYLIGHT
TZOFFSETFROM:+0100
TZOFFSETTO:+0200
TZNAME:CEST
DTSTART:20260329T010000
END:DAYLIGHT
BEGIN:STANDARD
TZOFFSETFROM:+0200
TZOFFSETTO:+0100
TZNAME:CET
DTSTART:20261025T010000
END:STANDARD
BEGIN:DAYLIGHT
TZOFFSETFROM:+0100
TZOFFSETTO:+0200
TZNAME:CEST
DTSTART:20270328T010000
END:DAYLIGHT
BEGIN:STANDARD
TZOFFSETFROM:+0200
TZOFFSETTO:+0100
TZNAME:CET
DTSTART:20271031T010000
END:STANDARD
END:VTIMEZONE
BEGIN:VEVENT
DTSTART;TZID=Europe/Paris:20261123T090000
DTEND;TZID=Europe/Paris:20261126T170000
DTSTAMP:20260421T160152
CREATED:20260306T083811Z
LAST-MODIFIED:20260306T083811Z
UID:2611-1795424400-1795712400@ab-audit.com
SUMMARY:Formation ISO 42001 Lead Implementer
DESCRIPTION:Formation Certifiante ISO 42001 Lead Implementer : Maîtriser le Système de Management de l’IA (AIMS)\nDominez la Gouvernance de l’IA avec la Certification ISO 42001\nL’Intelligence Artificielle (IA) est au cœur de la transformation numérique\, mais son déploiement pose des défis majeurs en matière de risques éthiques\, légaux et de gouvernance. \nPour y répondre\, la norme internationale ISO/IEC 42001:2023 définit les exigences d’un Système de Management de l’IA (AIMS). Cette norme est l’outil indispensable pour garantir un usage de l’IA à la fois responsable\, transparent et conforme au sein de votre organisation. \nAB-AUDIT.com est fier de vous proposer la formation essentielle pour devenir un expert reconnu : la formation ISO 42001 Lead Implementer. \nProfile Credly: https://www.credly.com/users/walid-bouzouita \n\nPourquoi choisir la formation ISO 42001 Lead Implementer ?\n  \nEn tant que Lead Implementer\, vous ne vous contentez pas de comprendre la norme ; vous devenez l’architecte et le pilote de sa mise en œuvre. Cette formation intensive et pratique vous prépare à : \n\nPlanifier et implémenter un Système de Management de l’IA (AIMS) complet\, conforme à l’ISO 42001:2023.\nGérer les risques liés à l’IA (biais\, sécurité\, confidentialité) et mettre en place les contrôles d’IA appropriés.\nAssurer la conformité réglementaire de vos systèmes d’IA (en prévision\, par exemple\, de l’AI Act européen).\nDiriger les équipes de projet AIMS et préparer votre organisation à l’audit de certification ISO 42001.\nÉtablir une feuille de route stratégique pour une adoption éthique et durable de l’IA.\n\n  \nLes Avantages pour votre Carrière et votre Organisation :\n  \n\nAccréditation Internationale : Obtenez un certificat reconnu mondialement\, attestant de votre capacité à implémenter l’ISO 42001.\nCompétences de Leadership : Développez votre expertise pour devenir le référent de la gestion des systèmes d’IA.\nAvantage Compétitif : Positionnez votre entreprise comme un leader de l’IA responsable et gagnez la confiance de vos parties prenantes.\n\n\nLe Programme Détaillé (Aperçu)\n  \nNotre programme\, animé par des experts auditeurs et implémenteurs certifiés\, suit le cycle de vie de l’AIMS et les meilleures pratiques d’implémentation de système de management : \n\nIntroduction à l’ISO/IEC 42001 : Principes fondamentaux\, terminologie clé et lien avec les autres normes (ISO 27001\, etc.).\nPlanification de l’AIMS : Contexte de l’organisation\, identification des parties intéressées et évaluation des risques IA.\nMise en Œuvre de l’AIMS : Déploiement des contrôles spécifiques à l’IA\, documentation\, et formation des équipes.\nSurveillance et Amélioration Continue : Audit interne\, revue de direction\, et processus d’amélioration de la performance de l’IA.\nPréparation à la Certification : Conseils et méthodologie pour réussir l’audit de certification ISO 42001.\n\n\nÀ Qui S’adresse cette Formation ?\n  \nCette formation est indispensable pour tous les professionnels impliqués dans la stratégie\, le déploiement ou la supervision de l’IA : \n\nChefs de Projet / Consultants en mise en œuvre de systèmes de management.\nResponsables de la Gouvernance de l’IA\, de la Conformité et de l’Éthique (Chief AI Officer\, Data Protection Officer).\nDirecteurs Informatiques (DSI) et Responsables de la Sécurité des Systèmes d’Information (RSSI).\nMembres des équipes d’Audit Interne et de Gestion des Risques.\n\n\n  \nInscrivez-vous dès aujourd’hui et prenez le Lead sur l’AIMS !\nLe nombre de places est limité pour garantir la qualité de l’apprentissage et les échanges personnalisés. \n\n\nVous avez raté cette session\, ce n’est pas grave nous en organisons régulièrement n’hésitez pas à nous contacter
URL:https://ab-audit.com/events/formation-iso-42001-lead-implementer-2/
LOCATION:AB AUDIT\, rue du Lac Victoria Immeuble Lac 2001\, AB AUDIT Rue du Lac Victoria Immeuble Lac 2001\, Les Berges du lac\, TUNIS\, Tunis\, 1053\, Tunisia
ATTACH;FMTTYPE=image/png:https://ab-audit.com/wp-content/uploads/2025/09/PECB-ISO42001-Lead-Implmenter.png
ORGANIZER;CN="AB AUDIT":MAILTO:info@ab-audit.com
END:VEVENT
END:VCALENDAR