BEGIN:VCALENDAR
VERSION:2.0
PRODID:-//AB Audit - ECPv6.15.20//NONSGML v1.0//EN
CALSCALE:GREGORIAN
METHOD:PUBLISH
X-WR-CALNAME:AB Audit
X-ORIGINAL-URL:https://ab-audit.com
X-WR-CALDESC:Évènements pour AB Audit
REFRESH-INTERVAL;VALUE=DURATION:PT1H
X-Robots-Tag:noindex
X-PUBLISHED-TTL:PT1H
BEGIN:VTIMEZONE
TZID:Europe/Paris
BEGIN:DAYLIGHT
TZOFFSETFROM:+0100
TZOFFSETTO:+0200
TZNAME:CEST
DTSTART:20250330T010000
END:DAYLIGHT
BEGIN:STANDARD
TZOFFSETFROM:+0200
TZOFFSETTO:+0100
TZNAME:CET
DTSTART:20251026T010000
END:STANDARD
BEGIN:DAYLIGHT
TZOFFSETFROM:+0100
TZOFFSETTO:+0200
TZNAME:CEST
DTSTART:20260329T010000
END:DAYLIGHT
BEGIN:STANDARD
TZOFFSETFROM:+0200
TZOFFSETTO:+0100
TZNAME:CET
DTSTART:20261025T010000
END:STANDARD
BEGIN:DAYLIGHT
TZOFFSETFROM:+0100
TZOFFSETTO:+0200
TZNAME:CEST
DTSTART:20270328T010000
END:DAYLIGHT
BEGIN:STANDARD
TZOFFSETFROM:+0200
TZOFFSETTO:+0100
TZNAME:CET
DTSTART:20271031T010000
END:STANDARD
END:VTIMEZONE
BEGIN:VEVENT
DTSTART;TZID=Europe/Paris:20261026T083000
DTEND;TZID=Europe/Paris:20261029T153000
DTSTAMP:20260421T160222
CREATED:20260306T151529Z
LAST-MODIFIED:20260306T151529Z
UID:2643-1793003400-1793287800@ab-audit.com
SUMMARY:Formation ISO 27001 Lead Auditor
DESCRIPTION:Avec notre Formation ISO 27001 Lead Auditor obtenez votre certificat d’auditeur d’un SMSI. (Système de Management de la Sécurité de l’Information)\nAvant tout vous Maîtriserez les fondamentaux de ISO 27001 la norme de Management de la sécurité de l’information.\nEn conséquence vous transformerez votre Sécurité de l’information avec ISO27001 une norme mondialement reconnue.\n\nAB AUDIT délivre la formation ISO27001 Lead Auditor\nPECB administre les examens PECB ISO 27001 Lead Auditor\nPECB délivre la certification ISO27001 Lead Auditor\nAB AUDIT et ses partenaires vous proposent une session de formation ISO 27001 Lead Auditor de PECB.\n\nNotre formateur est un expert en sécurité de l’information et cybersécurité\, ils est certifié ISO27001\, ISO27005\, COBIT\, PRINCE2\, CISA\, CIA\, CRISC\, CISM\, CDPSE\, AAIA…\nAu cours de cette formation\, vous acquerrez les connaissances et les compétences nécessaires pour planifier et réaliser des audits conformément aux processus de certification ISO 19011 et ISO/IEC 17021-1.\nISO/IEC 27001 est la norme la plus connue de cette famille qui n’en compte pas moins d’une douzaine. Elle spécifie les exigences relatives aux systèmes de management de la sécurité des informations (SMSI). La mise en œuvre des normes de cette famille par tout type d’organisation facilite le management de la sécurité d’actifs sensibles tels que les données financières\, les documents de propriété intellectuelle\, les données relatives au personnel ou les informations confiées par des tiers.\n\nVous avez raté cette session\, ce n’est pas grave nous en organisons régulièrement n’hésitez pas à nous contacter  \n\nDevenez Lead Auditor ISO/IEC 27001 : Maîtrisez l’Audit de Sécurité\nLa formation ISO/IEC 27001 Lead Auditor est le pilier pour établir la confiance numérique. En apprenant à identifier les vulnérabilités et à évaluer l’efficacité d’un SMSI (Système de Management de la Sécurité de l’Information)\, vous devenez le garant de la résilience de votre organisation. \nPourquoi choisir cette certification ?\nParticiper à cette formation PECB\, c’est acquérir une expertise double : technique et humaine. \n\n\nMaîtrise normative : Réalisez des audits internes et externes selon les standards ISO 19011 et ISO/IEC 17021-1. \n\n\nCompétences de terrain : Gérez une équipe d’audit\, résolvez les conflits et communiquez efficacement avec vos clients. \n\n\nReconnaissance internationale : Préparez l’examen pour obtenir le titre prestigieux de « PECB Certified ISO/IEC 27001 Lead Auditor ». \n\n\n\nÀ qui s’adresse cette formation ?\nCette spécialisation est conçue pour les professionnels de la cybersécurité et de la conformité : \n\n\nAuditeurs souhaitant diriger des audits de certification SMSI. \n\n\nManagers & Consultants voulant maîtriser le processus d’audit de A à Z. \n\n\nResponsables conformité chargés de maintenir les standards de sécurité. \n\n\nExperts techniques se préparant à une évaluation de leur système. \n\n\nVos objectifs d’apprentissage\nÀ l’issue de ce cursus\, vous serez capable de : \n\n\nInterpréter les exigences de la norme ISO 27001 avec un œil d’auditeur. \n\n\nÉvaluer la conformité d’un SMSI selon les principes fondamentaux d’audit. \n\n\nPlanifier\, réaliser et clôturer un audit complet en suivant les bonnes pratiques. \n\n\nGérer un programme d’audit ISO/IEC 27001 à grande échelle. \n\n\n\nUne approche pédagogique basée sur l’action\nNous privilégions le transfert de compétences par la pratique pour garantir votre réussite à l’examen : \n\nThéorie & Pratique : Des cours illustrés par des études de cas réelles\, des jeux de rôle et des simulations d’examens. \n\nPrérequis : Une connaissance de base de l’ISO 27001 et des principes d’audit est nécessaire pour profiter pleinement de cette formation.
URL:https://ab-audit.com/events/formation-iso-27001-lead-auditor-3/
LOCATION:AB AUDIT\, rue du Lac Victoria Immeuble Lac 2001\, AB AUDIT Rue du Lac Victoria Immeuble Lac 2001\, Les Berges du lac\, TUNIS\, Tunis\, 1053\, Tunisia
CATEGORIES:Formation Certifiante
ATTACH;FMTTYPE=image/png:https://ab-audit.com/wp-content/uploads/2021/02/ISO-IEC-27001-Senior-Lead-Auditor-2.png
ORGANIZER;CN="AB AUDIT":MAILTO:info@ab-audit.com
END:VEVENT
END:VCALENDAR