BEGIN:VCALENDAR
VERSION:2.0
PRODID:-//AB Audit - ECPv6.15.20//NONSGML v1.0//EN
CALSCALE:GREGORIAN
METHOD:PUBLISH
X-WR-CALNAME:AB Audit
X-ORIGINAL-URL:https://ab-audit.com
X-WR-CALDESC:Évènements pour AB Audit
REFRESH-INTERVAL;VALUE=DURATION:PT1H
X-Robots-Tag:noindex
X-PUBLISHED-TTL:PT1H
BEGIN:VTIMEZONE
TZID:Europe/Paris
BEGIN:DAYLIGHT
TZOFFSETFROM:+0100
TZOFFSETTO:+0200
TZNAME:CEST
DTSTART:20250330T010000
END:DAYLIGHT
BEGIN:STANDARD
TZOFFSETFROM:+0200
TZOFFSETTO:+0100
TZNAME:CET
DTSTART:20251026T010000
END:STANDARD
BEGIN:DAYLIGHT
TZOFFSETFROM:+0100
TZOFFSETTO:+0200
TZNAME:CEST
DTSTART:20260329T010000
END:DAYLIGHT
BEGIN:STANDARD
TZOFFSETFROM:+0200
TZOFFSETTO:+0100
TZNAME:CET
DTSTART:20261025T010000
END:STANDARD
BEGIN:DAYLIGHT
TZOFFSETFROM:+0100
TZOFFSETTO:+0200
TZNAME:CEST
DTSTART:20270328T010000
END:DAYLIGHT
BEGIN:STANDARD
TZOFFSETFROM:+0200
TZOFFSETTO:+0100
TZNAME:CET
DTSTART:20271031T010000
END:STANDARD
END:VTIMEZONE
BEGIN:VEVENT
DTSTART;TZID=Europe/Paris:20260706T080000
DTEND;TZID=Europe/Paris:20260708T170000
DTSTAMP:20260421T131324
CREATED:20250505T140523Z
LAST-MODIFIED:20260306T094438Z
UID:2487-1783324800-1783530000@ab-audit.com
SUMMARY:Formation COBIT Foundation 2019
DESCRIPTION:Avec notre Formation COBIT Foundation 2019 obtenez votre certificat dès la première tentative.\nAvant tout vous Maîtriserez les fondamentaux de COBIT le cadre de Gouvernance et de Management de le plus connu au monde.\nEn conséquence vous transformerez votre Gouvernance d’entreprise et la Gouvernance de votre transformation Digitale avec COBIT un Référentiel mondialement reconnu.\nISACA  délivre la certification COBIT.\nAB AUDIT délivre la formation COBIT.\nPSI administre les examens COBIT en ligne.\n\nNotre formation de trois jours vous aidera à comprendre comment gouverner votre organisation. Nous expliquerons les principales différences entre COBIT 5 et COBIT 2019. Vous étudierez également la manière dont COBIT 2019 intègre d’autres corpus de connaissances\, normes et cadres.\n\nCOBIT 2019 est la dernière édition du cadre de référence mondialement reconnu de l’ISACA. notre Formation COBIT 2019 Foundation vous offre une vue d’ensemble de la gouvernance d’entreprise. COBIT met en avant le rôle central des informations et de la technologie comme créateurs de valeur pour les entreprises. Les principes\, pratiques\, outils d’analyse et modèles de COBIT 2019 fournissent des directives pour les experts métiers et informatique\, en matière de gouvernance.\n\n\n \nNotre Formateur\nNotre Formateur Walid Bouzouita est un consultant et expert en gouvernance et audit IT et en gestion des risques certifié CISA\, CIA\, CRISC\, CDPSE et COBIT. Il détient 51 badges de certification vérifiés sur Credly\, couvrant des domaines comme la cybersécurité\, la conformité\, la gestion de projets\, le cloud\, la blockchain et l’intelligence artificielle. \nDécouvrez son profil complet sur Credly ici : https://www.credly.com/users/walid-bouzouita  \nVous avez raté cette session\, ce n’est pas grave nous en organisons régulièrement n’hésitez pas à nous contacter \n\n\n\n\n \n\n\n\n\n\n\n\n\nFormation COBIT® 2019 Foundation : Maîtriser la Gouvernance des Systèmes d’Information\nDevenez un expert certifié dans le cadre de référence mondial pour la gouvernance et le management des technologies de l’information (I&T).\n\nPourquoi choisir la formation COBIT 2019 ?\nDans un environnement numérique en constante évolution\, l’informatique n’est plus un simple support technique mais un levier stratégique majeur. La formation COBIT 2019 Foundation vous permet de comprendre comment instaurer une Gouvernance IT efficace\, capable de répondre aux attentes des parties prenantes tout en optimisant la création de valeur et la gestion des risques.\n\nObjectifs de la formation\nÀ l’issue de ce programme de 3 jours\, les participants seront capables de :\n\nComprendre les principes fondamentaux du framework COBIT 2019 et son importance pour les entreprises modernes.\nDistinguer la Gouvernance du Management selon les standards de l’ISACA.\nIdentifier les 40 objectifs de gouvernance et de gestion répartis dans les 5 domaines clés : EDM\, APO\, BAI\, DSS et MEA.\nMaîtriser les facteurs de conception (Design Factors) pour personnaliser le système de gouvernance en fonction du contexte de l’organisation.\nSe préparer efficacement à l’examen officiel pour obtenir la certification COBIT 2019 Foundation.\n\n\nProgramme détaillé\n\nIntroduction au cadre COBIT 2019 : Architecture du framework et différences majeures avec COBIT 5.\nPrincipes de gouvernance : Les 6 principes du système de gouvernance et les 3 principes du cadre de gouvernance.\nLe Modèle de Référence COBIT (Core Model) : Analyse approfondie des objectifs et des composantes (processus\, structures organisationnelles\, culture\, etc.).\nGestion de la performance : Utilisation des niveaux de capacité et de maturité basés sur le modèle CMMI.\nMise en œuvre et personnalisation : Étapes pour bâtir un système sur mesure grâce au guide de conception (Design Guide).\n\n\nPublic visé et prérequis\nCette formation s’adresse aux DSI\, responsables informatiques\, auditeurs\, consultants\, et gestionnaires de risques souhaitant professionnaliser leur approche de la gouvernance IT.\n\nPrérequis : Une expérience pratique dans la gestion des services informatiques ou l’audit est recommandée.\n\n\nDétails de la certification\n\nExamen : QCM de 75 questions en ligne.\nDurée : 120 minutes.\nScore de réussite : 65 %.
URL:https://ab-audit.com/events/formation-cobit-foundation-2019/
LOCATION:AB AUDIT\, rue du Lac Victoria Immeuble Lac 2001\, AB AUDIT Rue du Lac Victoria Immeuble Lac 2001\, Les Berges du lac\, TUNIS\, Tunis\, 1053\, Tunisia
CATEGORIES:Formation Certifiante
ATTACH;FMTTYPE=image/png:https://ab-audit.com/wp-content/uploads/2024/05/COBIT-Foundation.png
ORGANIZER;CN="AB AUDIT":MAILTO:info@ab-audit.com
END:VEVENT
END:VCALENDAR