BEGIN:VCALENDAR
VERSION:2.0
PRODID:-//AB Audit - ECPv6.15.20//NONSGML v1.0//EN
CALSCALE:GREGORIAN
METHOD:PUBLISH
X-WR-CALNAME:AB Audit
X-ORIGINAL-URL:https://ab-audit.com
X-WR-CALDESC:Évènements pour AB Audit
REFRESH-INTERVAL;VALUE=DURATION:PT1H
X-Robots-Tag:noindex
X-PUBLISHED-TTL:PT1H
BEGIN:VTIMEZONE
TZID:Europe/Paris
BEGIN:DAYLIGHT
TZOFFSETFROM:+0100
TZOFFSETTO:+0200
TZNAME:CEST
DTSTART:20250330T010000
END:DAYLIGHT
BEGIN:STANDARD
TZOFFSETFROM:+0200
TZOFFSETTO:+0100
TZNAME:CET
DTSTART:20251026T010000
END:STANDARD
BEGIN:DAYLIGHT
TZOFFSETFROM:+0100
TZOFFSETTO:+0200
TZNAME:CEST
DTSTART:20260329T010000
END:DAYLIGHT
BEGIN:STANDARD
TZOFFSETFROM:+0200
TZOFFSETTO:+0100
TZNAME:CET
DTSTART:20261025T010000
END:STANDARD
BEGIN:DAYLIGHT
TZOFFSETFROM:+0100
TZOFFSETTO:+0200
TZNAME:CEST
DTSTART:20270328T010000
END:DAYLIGHT
BEGIN:STANDARD
TZOFFSETFROM:+0200
TZOFFSETTO:+0100
TZNAME:CET
DTSTART:20271031T010000
END:STANDARD
END:VTIMEZONE
BEGIN:VEVENT
DTSTART;TZID=Europe/Paris:20260413T090000
DTEND;TZID=Europe/Paris:20260417T170000
DTSTAMP:20260424T174132
CREATED:20260306T084254Z
LAST-MODIFIED:20260306T091612Z
UID:2614-1776070800-1776445200@ab-audit.com
SUMMARY:Formation CISA Avril 2026 En Anglais
DESCRIPTION:Maitrisez les tenants et aboutissants de l’IT avec notre Formation CISA. Vous maîtriserez las 5 domaines du CISA. Cette formation vous préparera à passer  votre examen CISA. \nVous bénéficiez également d’un coaching gratuit. \nVous serez encadré par un formateur officiellement accrédité par l’ISACA et l’APMG. \nNous sommes le seul organisme en Tunisie qui offre une formation officiellement accréditée par l’ISACA. \n\nThème de notre formation CISA – Certified Information Systems Auditor de l’ISACA: https://www.isaca.org/credentialing/cisa\nAvec Formateur Accrédité CISA\, CRISC\, COBIT\, CDPSE\, CET\, Cloud\, IoT\, Blockchain\, Intelligence Artificielle\, Data Science et certifié CIA\, ISO 9001\, ISO 20000\, ISO 21001\, ISO 27001\, ISO 27002\, ISO 27005\, ISO ISO 37301\, PRINCE2 pour la gestion des projets. FORMATEUR CISA\nLe Nombre de Jours : 5 jours\nVos pauses café sont inclues dans le coût de la formation.\nFormation donnée en mode mixte; en présentiel et en ligne.\n\nProgramme ici:  \nLa désignation CISA est une certification globalement reconnue pour les professionnels du contrôle d’audit\, de l’assurance et de la sécurité. Vous certifié CISA ceci met en valeur votre expérience d’audit\, vos compétences et vos connaissances. Ca démontre que vous êtes capable d’évaluer les vulnérabilités\, de rendre compte de la conformité et d’instaurer des contrôles au sein de l’entreprise. \nLe cours Certified Information Systems Auditor (CISA) vous donnera. Non seulement  les compétences nécessaires pour diriger et contrôler l’informatique de l’entreprise. mais aussi vous pourrez effectuer un audit de sécurité efficace sur n’importe quelle organisation. Enfin vous acquérez une expertise dans l’acquisition\, le développement\, les tests et la mise en œuvre des systèmes d’information. Vous apprendrez aussi les lignes directrices\, les normes et les meilleures pratiques pour les protéger. \n\n\nVous avez raté cette session\, ce n’est pas grave nous en organisons régulièrement n’hésitez pas à nous contacter
URL:https://ab-audit.com/events/formation-cisa-avril-2026-en-anglais/
LOCATION:AB AUDIT\, rue du Lac Victoria Immeuble Lac 2001\, AB AUDIT Rue du Lac Victoria Immeuble Lac 2001\, Les Berges du lac\, TUNIS\, Tunis\, 1053\, Tunisia
ATTACH;FMTTYPE=image/png:https://ab-audit.com/wp-content/uploads/2020/04/CISA-Badge.png
ORGANIZER;CN="AB AUDIT":MAILTO:info@ab-audit.com
END:VEVENT
END:VCALENDAR